BEGIN:VCALENDAR
VERSION:2.0
PRODID:-//ChamberMaster//Event Calendar 2.0//EN
METHOD:PUBLISH
X-PUBLISHED-TTL:P3D
REFRESH-INTERVAL:P3D
CALSCALE:GREGORIAN
BEGIN:VEVENT
DTSTART:20171005T213000Z
DTEND:20171005T230000Z
X-MICROSOFT-CDO-ALLDAYEVENT:FALSE
SUMMARY:Pinellas Technical College Open House
DESCRIPTION:Pinellas Technical College Open House - St Petersburg Campus\n\n			 \n\n			Pinellas Technical College St. Petersburg will be hosting an open house on Thursday October 5th.  The college offers more than 50 different technical training programs in a variety of professions currently in high demand. For more information visit our campus anytime Monday-Thursday 7:00 a.m. to 2:00 p.m. Registration starts NOW for our term beginning October 17\, 2017. Opportunity Starts Here!  For more information call (727) 893-2500 or visit  www.myptc.edu.
X-ALT-DESC;FMTTYPE=text/html:<table border="0" cellpadding="0">\n	<tbody>\n		<tr>\n			<td style="vertical-align: top\;"><span style="color: rgb(51\, 51\, 51)\;"><span style="font-family: helvetica\,sans-serif\;"><span style="font-size: 10pt\;">Pinellas Technical College Open House - St Petersburg Campus</span></span></span><br />\n			&nbsp\;<br />\n			<span style="color: rgb(51\, 51\, 51)\;"><span style="font-family: helvetica\,sans-serif\;"><span style="font-size: 10pt\;">Pinellas Technical College St. Petersburg will be hosting an open house on Thursday October 5th.&nbsp\; The college offers more than 50 different technical training programs in a variety of professions currently in high demand. For more information visit our campus anytime Monday-Thursday 7:00 a.m. to 2:00 p.m. Registration starts NOW for our term beginning October 17\, 2017. Opportunity Starts Here!&nbsp\; For more information call&nbsp\;(727) 893-2500 or visit&nbsp\; </span></span></span><a href="http://www.myptc.edu/" target="_blank"><span style="font-family: helvetica\,sans-serif\;"><span style="font-size: 10pt\;">www.myptc.edu.</span></span></a></td>\n		</tr>\n		<tr>\n			<td style="vertical-align: top\;">&nbsp\;</td>\n		</tr>\n	</tbody>\n</table>\n
LOCATION:901 34th Street St.Petersburg\, FL 33711
UID:e.131.10397
SEQUENCE:3
DTSTAMP:20260424T162445Z
URL:https://www.pinellasparkchamber.com/events/details/pinellas-technical-college-open-house-10397
END:VEVENT

END:VCALENDAR
