BEGIN:VCALENDAR
VERSION:2.0
PRODID:-//ChamberMaster//Event Calendar 2.0//EN
METHOD:PUBLISH
X-PUBLISHED-TTL:P3D
REFRESH-INTERVAL:P3D
CALSCALE:GREGORIAN
BEGIN:VEVENT
DTSTART:20260408T150000Z
DTEND:20260408T160000Z
X-MICROSOFT-CDO-ALLDAYEVENT:FALSE
SUMMARY:Pinellas Park Realtor Pitch Group
DESCRIPTION:Pinellas Park Realtor Pitch Group  \n\nCalling all local Realtors! Join us for the Pinellas Park Realtor Pitch Group an open\, collaborative space for real estate professionals to pitch listings\, share market insights\, and build meaningful connections across our local market.\n\n   Pitch your listings\n\n   Network with fellow Realtors\n\n   Exchange local market knowledge\n\nJoin us to connect\, collaborate\, and grow your business!
X-ALT-DESC;FMTTYPE=text/html:<p data-end="207" data-start="162">&#127969\; <strong data-end="202" data-start="165">Pinellas Park Realtor Pitch Group</strong> &#127969\;</p>\n\n<p data-end="447" data-start="209">Calling all local Realtors! Join us for the Pinellas Park Realtor Pitch Group&mdash\;an open\, collaborative space for real estate professionals to pitch listings\, share market insights\, and build meaningful connections across our local market.</p>\n\n<p data-end="544" data-start="449">&#10004\;&#65039\; Pitch your listings<br data-end="474" data-start="471" />\n&#10004\;&#65039\; Network with fellow Realtors<br data-end="508" data-start="505" />\n&#10004\;&#65039\; Exchange local market knowledge</p>\n\n<p data-end="636" data-start="546">Join us to connect\, collaborate\, and grow your business!</p>\n<scribe-shadow data-crx="okfkdaglfjjjfefdcppliegebpoegaii" id="crxjs-ext" style="position: fixed\; width: 0px\; height: 0px\; top: 0px\; left: 0px\; z-index: 2147483647\; overflow: visible\; visibility: visible\;"></scribe-shadow>
LOCATION:Pee Pa's Garage & Craft Brewery
UID:e.131.18926
SEQUENCE:3
DTSTAMP:20260423T065420Z
URL:https://www.pinellasparkchamber.com/events/details/pinellas-park-realtor-pitch-group-04-08-2026-18926
END:VEVENT

END:VCALENDAR
