BEGIN:VCALENDAR
VERSION:2.0
PRODID:-//ChamberMaster//Event Calendar 2.0//EN
METHOD:PUBLISH
X-PUBLISHED-TTL:P3D
REFRESH-INTERVAL:P3D
CALSCALE:GREGORIAN
BEGIN:VEVENT
DTSTART:20171209T220000Z
DTEND:20171210T010000Z
X-MICROSOFT-CDO-ALLDAYEVENT:FALSE
SUMMARY:Pinellas Park Holiday Parade Chamber Float
DESCRIPTION:45th Annual Chrismas Parade\n\nCome ready to ride the float\, be dressed in holiday colors and remember no Santa costumes.\n\nThis year we are not allowed to throw anything\, NO BEADS OR CANDY. If you would like to walk and distribute beads you may do so. You are solely responosible for your own beads.
X-ALT-DESC;FMTTYPE=text/html:45th Annual Chrismas Parade<br />\nCome ready to ride the float\, be dressed in holiday colors and remember no Santa costumes.<br />\nThis year we are not allowed to throw anything\, NO BEADS OR CANDY. If you would like to walk and distribute beads you may do so. You are solely responosible for your own beads.
LOCATION:Please meet at Park Station 5851 Park Blvd. Pinellas Park\, Fl 33781
UID:e.131.10443
SEQUENCE:3
DTSTAMP:20260423T102259Z
URL:https://www.pinellasparkchamber.com/events/details/pinellas-park-holiday-parade-chamber-float-10443
END:VEVENT

END:VCALENDAR
