BEGIN:VCALENDAR
VERSION:2.0
PRODID:-//ChamberMaster//Event Calendar 2.0//EN
METHOD:PUBLISH
X-PUBLISHED-TTL:P3D
REFRESH-INTERVAL:P3D
CALSCALE:GREGORIAN
BEGIN:VEVENT
DTSTART:20171023T220000Z
DTEND:20171024T000000Z
X-MICROSOFT-CDO-ALLDAYEVENT:FALSE
SUMMARY:Monday Mixer
DESCRIPTION:MONDAY NIGHT MIXER\n\n\n\nMidFlorida will be hosting our event this month!\n\nJoin us for a night of \n\n-RAFFLES-\n\n-CATERED FOOD-\n\n-NETWORKING-
X-ALT-DESC;FMTTYPE=text/html:<strong><span style="color:#C00000\;"><span style="font-family:arial\,sans-serif\;"><span style="font-size:22.0pt\;">MONDAY NIGHT MIXER</span></span></span></strong><br />\n<br />\n<strong><span style="color:black\;"><span style="font-family:arial\,sans-serif\;"><span style="font-size:16.0pt\;">MidFlorida will be hosting our event this month!</span></span></span></strong><br />\n<strong><span style="font-family:arial\,sans-serif\;"><span style="font-size:16.0pt\;"><span style="color:#000000\;">Join us for a night of&hellip\;</span><br />\n-<span style="color:#C00000\;">RAFFLES</span>-<br />\n-<span style="color:#C00000\;">CATERED FOOD</span>-<br />\n-<span style="color:#C00000\;">NETWORKING</span>-</span></span></strong>
LOCATION:MidFlorida Credit Union 4300 Park Blvd Pinellas Park\, FL 33781
UID:e.131.10400
SEQUENCE:3
DTSTAMP:20260425T155520Z
URL:https://www.pinellasparkchamber.com/events/details/monday-mixer-10400
END:VEVENT

END:VCALENDAR
