BEGIN:VCALENDAR
VERSION:2.0
PRODID:-//ChamberMaster//Event Calendar 2.0//EN
METHOD:PUBLISH
X-PUBLISHED-TTL:P3D
REFRESH-INTERVAL:P3D
CALSCALE:GREGORIAN
BEGIN:VEVENT
DTSTART:20260307T160000Z
DTEND:20260308T000000Z
X-MICROSOFT-CDO-ALLDAYEVENT:FALSE
SUMMARY:Live UFC Gym Fight Day! Pinellas Park vs. Largo
DESCRIPTION:UFC Gym Pinellas Park and UFC Gym Largo are going head-to-head for an in-house Fight Day. Come watch our athletes compete in controlled\, coached matchups showcasing boxing\, kickboxing\, and MMA skills. This event is open to the public and family friendly. Tickets are $5 at the door. Support your local athletes and represent your city!
X-ALT-DESC;FMTTYPE=text/html:UFC Gym Pinellas Park and UFC Gym Largo are going head-to-head for an in-house Fight Day. Come watch our athletes compete in controlled\, coached matchups showcasing boxing\, kickboxing\, and MMA skills. This event is open to the public and family friendly. Tickets are $5 at the door. Support your local athletes and represent your city!
LOCATION:UFC Gym Largo
UID:e.131.18912
SEQUENCE:3
DTSTAMP:20260423T065420Z
URL:https://www.pinellasparkchamber.com/events/details/live-ufc-gym-fight-day-pinellas-park-vs-largo-18912
END:VEVENT

END:VCALENDAR
