BEGIN:VCALENDAR
VERSION:2.0
PRODID:-//ChamberMaster//Event Calendar 2.0//EN
METHOD:PUBLISH
X-PUBLISHED-TTL:P3D
REFRESH-INTERVAL:P3D
CALSCALE:GREGORIAN
BEGIN:VEVENT
DTSTART:20171026T230000Z
DTEND:20171027T000000Z
X-MICROSOFT-CDO-ALLDAYEVENT:FALSE
SUMMARY:GTE Home Loan Event
DESCRIPTION:We can help!\n\nVisit our Seminole Community Financial Center so you can receive important information on how to purchase the home of your dreams and which home loan products GTE Financial offers.\n\n  A representative will be presenting on the different home loans we offer\n\n  You will have the opportunity to ask questions about the home buying process and how to apply for a home loan\n\n  If you are ready to apply for a home loan\, representative will be onsite to help
X-ALT-DESC;FMTTYPE=text/html:<p>&nbsp\;</p>\n\n<p>&nbsp\;</p>\n\n<p>&nbsp\;</p>\n\n<p>&nbsp\;</p>\n\n<p>We can help!</p>\n\n<p>Visit our Seminole Community Financial Center so you can receive important information on how to purchase the home of your dreams and which home loan products GTE Financial offers.</p>\n\n<p>&gt\; A representative will be presenting on the different home loans we offer</p>\n\n<p>&gt\; You will have the opportunity to ask questions about the home buying process and how to apply for a home loan</p>\n\n<p>&gt\; If you are ready to apply for a home loan\, representative will be onsite to help</p>\n
LOCATION:Location: 7691 Starkey Rd. Date: October 26 l 7pm
UID:e.131.10403
SEQUENCE:3
DTSTAMP:20260424T073659Z
URL:https://www.pinellasparkchamber.com/events/details/gte-home-loan-event-10403
END:VEVENT

END:VCALENDAR
