BEGIN:VCALENDAR
VERSION:2.0
PRODID:-//ChamberMaster//Event Calendar 2.0//EN
METHOD:PUBLISH
X-PUBLISHED-TTL:P3D
REFRESH-INTERVAL:P3D
CALSCALE:GREGORIAN
BEGIN:VEVENT
DTSTART:20260405T140000Z
DTEND:20260405T190000Z
X-MICROSOFT-CDO-ALLDAYEVENT:FALSE
SUMMARY:Easter Brunch Buffet at the Blu Halo
DESCRIPTION:Join Us at the Blu Halo For Easter Brunch!\n\n\n\nGather your people and join us this Easter Sunday from 10AM - 3PM for a brunch buffet done the The Blu Halo way. Featuring elevated classes\, fresh seasonal flavors\, and that refined-yet-relaxed atmosphere you love. \n\n\n\nFrom made-to-order omelets and a carving station featuring prime rib and a ham with mango chutney\, to waffles with all the toppings for the kids\, there's something for everyone at the table. Reserve your seat and make this a Sunday worth savoring. \n\n\n\nTickets are $50 per adult\, and $15 per child between the ages of 6-12. \n\n\n\nPlease notify your server upon arrival of any dietary restrictions.
X-ALT-DESC;FMTTYPE=text/html:<strong>Join Us at the Blu Halo For Easter Brunch!</strong><br />\n<br />\nGather your people and join us this Easter Sunday from 10AM - 3PM for a brunch buffet done the The Blu Halo way. Featuring elevated classes\, fresh seasonal flavors\, and that refined-yet-relaxed atmosphere you love.&nbsp\;<br />\n<br />\nFrom made-to-order omelets and a carving station featuring prime rib and a ham with mango chutney\, to waffles with all the toppings for the kids\, there&#39\;s something for everyone at the table. Reserve your seat and make this a Sunday worth savoring.&nbsp\;<br />\n<br />\nTickets are $50 per adult\, and $15 per child between the ages of 6-12.&nbsp\;<br />\n<br />\nPlease notify your server upon arrival of any dietary restrictions.
LOCATION:The Blu Halo Address: 211 Main St N\, St. Petersburg\, FL 33716 Phone: (727) 202-7620 Menu: thebluhalostpete.com
UID:e.131.18949
SEQUENCE:3
DTSTAMP:20260423T114418Z
URL:https://www.pinellasparkchamber.com/events/details/easter-brunch-buffet-at-the-blu-halo-18949
END:VEVENT

END:VCALENDAR
