BEGIN:VCALENDAR
VERSION:2.0
PRODID:-//ChamberMaster//Event Calendar 2.0//EN
METHOD:PUBLISH
X-PUBLISHED-TTL:P3D
REFRESH-INTERVAL:P3D
CALSCALE:GREGORIAN
BEGIN:VEVENT
DTSTART:20171005T160000Z
DTEND:20171005T171500Z
X-MICROSOFT-CDO-ALLDAYEVENT:FALSE
SUMMARY:Discover Your Next Level-with Scott Gass
DESCRIPTION:Discover Your Next Level with Scott Gass\n\nThis Seminar is offered to you to demonstrate the impact that Scott will have on your sales and management team's mindset\, focus\, and productivity. Tony Robbins is covering all the expenses related to this seminar. This interactive and empowering 60-minute session is designed to provide your team with strategies they can use immediately to measurably enhance their professional and personal lives. At the end of the seminar\, Scott will introduce the upcoming Tony Robbins Unleash the Power Within weekend and offer your team an opportunity to enroll in the most dynamic and life changing experience ever!\n\n\n\nLEARN HOW TO\n\n\n	 Activate the driving force that moves you to action and results\n\n\n   Move through limitations toward resourcefulness\n\n   Cultivate a state of mental strength to overcome barriers\n\n   Inspire strong leadership\n\n   Embrace the power of focus to improve productivity
X-ALT-DESC;FMTTYPE=text/html:<p>Discover Your Next Level with Scott Gass</p>\n\n<p>This Seminar is offered to you to demonstrate the impact that Scott will have on your sales and management team&rsquo\;s mindset\, focus\, and productivity. Tony Robbins is covering all the expenses related to this seminar. This interactive and empowering 60-minute session is designed to provide your team with strategies they can use immediately to measurably enhance their professional and personal lives. At the end of the seminar\, Scott will introduce the upcoming Tony Robbins Unleash the Power Within weekend and offer your team an opportunity to enroll in the most dynamic and life changing experience ever!<br />\n<br />\nLEARN HOW TO</p>\n\n<ul>\n	<li>&nbsp\;Activate the driving force that moves you to action and results</li>\n</ul>\n\n<p>&bull\;&nbsp\; Move through limitations toward resourcefulness<br />\n&bull\;&nbsp\; Cultivate a state of mental strength to overcome barriers<br />\n&bull\;&nbsp\; Inspire strong leadership<br />\n&bull\;&nbsp\; Embrace the power of focus to improve productivity</p>\n\n<p>&nbsp\;</p>\n
LOCATION:Park Station 5851 Park Blvd Pinellas Park\, 33782
UID:e.131.10393
SEQUENCE:3
DTSTAMP:20260424T225926Z
URL:https://www.pinellasparkchamber.com/events/details/discover-your-next-level-with-scott-gass-10393
END:VEVENT

END:VCALENDAR
