BEGIN:VCALENDAR
VERSION:2.0
PRODID:-//ChamberMaster//Event Calendar 2.0//EN
METHOD:PUBLISH
X-PUBLISHED-TTL:P3D
REFRESH-INTERVAL:P3D
CALSCALE:GREGORIAN
BEGIN:VEVENT
DTSTART:20171220T123000Z
DTEND:20171220T140000Z
X-MICROSOFT-CDO-ALLDAYEVENT:FALSE
SUMMARY:CANCELED Monthly Breakfast
DESCRIPTION:Monthly Chamber Breakfast!\n\n\n\nNot a member yet? Come out and meet our\n\n\n\nPinellas Park/Gateway Chamber of Commerce!\n\n\n\n\n\nBring your business cards and flyers to network with.
X-ALT-DESC;FMTTYPE=text/html:<span style="font-size: 26px\;"><strong><span style="font-family: comic sans ms\;"><span style="color: mediumblue\;">Monthly Chamber Breakfast!</span></span></strong></span><br />\n<br />\n<strong><span style="font-size: 10.5pt\;"><span style="font-family: comic sans ms\;"><span style="color: mediumblue\;">Not a member yet? Come out and meet our</span></span></span></strong><br />\n<br />\n<strong><span style="font-size: 10.5pt\;"><span style="font-family: comic sans ms\;"><span style="color: mediumblue\;">Pinellas Park/Gateway Chamber of Commerce!</span></span></span></strong><br />\n<br />\n<br />\n<span style="font-size: 16px\;"><strong><span style="font-family: comic sans ms\;"><span style="color: mediumblue\;"><span style="font-family: comic sans ms\;">Bring your business cards and flyers to network with.</span></span></span></strong></span><br />\n<br />\n<br />\n<br />\n&nbsp\;
LOCATION:Pinellas Park Senior Center 7625 59th St Pinellas Park
UID:e.131.10197
SEQUENCE:3
DTSTAMP:20260424T194806Z
URL:https://www.pinellasparkchamber.com/events/details/canceled-monthly-breakfast-10197
END:VEVENT

END:VCALENDAR
