BEGIN:VCALENDAR
VERSION:2.0
PRODID:-//ChamberMaster//Event Calendar 2.0//EN
METHOD:PUBLISH
X-PUBLISHED-TTL:P3D
REFRESH-INTERVAL:P3D
CALSCALE:GREGORIAN
BEGIN:VEVENT
DTSTART:20260402T131500Z
DTEND:20260402T141500Z
X-MICROSOFT-CDO-ALLDAYEVENT:FALSE
SUMMARY:Ambassadors Committee Meeting
DESCRIPTION:Chamber Ambassadors Committee Meeting\n\nLearn what it means to be a Chamber Ambassador! Ambassadors are a committee of motivated members who connect with fellow members\, provide feedback to Chamber leadership\, and represent the Chamber at events throughout the year.\n\nWhen: 1st Thursday of every month\, 9:15 10:15 AM\n\nWhere: Pinellas Park Public Works - Conference Room\n\nWho Can Attend: All Chamber members are welcome!\n\nMore Info: Email Support@Pinellasparkchamber.com
X-ALT-DESC;FMTTYPE=text/html:<p data-end="371" data-start="99"><strong data-end="140" data-start="99">Chamber Ambassadors Committee Meeting</strong><br data-end="143" data-start="140" />\nLearn what it means to be a Chamber Ambassador! Ambassadors are a committee of motivated members who connect with fellow members\, provide feedback to Chamber leadership\, and represent the Chamber at events throughout the year.</p>\n\n<p data-end="540" data-start="373"><strong data-end="382" data-start="373">When:</strong> 1st Thursday of every month\, 9:15&ndash\;10:15 AM<br />\n<strong data-end="447" data-start="428">Where:&nbsp\;</strong>Pinellas Park Public Works - Conference Room<br data-end="428" data-start="425" />\n<strong data-end="447" data-start="428">Who Can Attend:</strong> All Chamber members are welcome!<br data-end="483" data-start="480" />\n<strong data-end="497" data-start="483">More Info:</strong> Email <a href="mailto:Support@pinellasparkchamber.com?subject=Ambassadors%20Committee%20-%20Info">Support@Pinellasparkchamber.com</a></p>\n
LOCATION:Pinellas Park Public Works
UID:e.131.18782
SEQUENCE:3
DTSTAMP:20260423T052510Z
URL:https://www.pinellasparkchamber.com/events/details/ambassadors-committee-meeting-04-02-2026-18782
END:VEVENT

END:VCALENDAR
